BEGIN:VCALENDAR
VERSION:2.0
PRODID:-//Bookseller Sterzinger - ECPv6.15.20//NONSGML v1.0//EN
CALSCALE:GREGORIAN
METHOD:PUBLISH
X-ORIGINAL-URL:https://www.bookseller.at
X-WR-CALDESC:Veranstaltungen für Bookseller Sterzinger
REFRESH-INTERVAL;VALUE=DURATION:PT1H
X-Robots-Tag:noindex
X-PUBLISHED-TTL:PT1H
BEGIN:VTIMEZONE
TZID:Europe/Vienna
BEGIN:DAYLIGHT
TZOFFSETFROM:+0100
TZOFFSETTO:+0200
TZNAME:CEST
DTSTART:20250330T010000
END:DAYLIGHT
BEGIN:STANDARD
TZOFFSETFROM:+0200
TZOFFSETTO:+0100
TZNAME:CET
DTSTART:20251026T010000
END:STANDARD
BEGIN:DAYLIGHT
TZOFFSETFROM:+0100
TZOFFSETTO:+0200
TZNAME:CEST
DTSTART:20260329T010000
END:DAYLIGHT
BEGIN:STANDARD
TZOFFSETFROM:+0200
TZOFFSETTO:+0100
TZNAME:CET
DTSTART:20261025T010000
END:STANDARD
BEGIN:DAYLIGHT
TZOFFSETFROM:+0100
TZOFFSETTO:+0200
TZNAME:CEST
DTSTART:20270328T010000
END:DAYLIGHT
BEGIN:STANDARD
TZOFFSETFROM:+0200
TZOFFSETTO:+0100
TZNAME:CET
DTSTART:20271031T010000
END:STANDARD
END:VTIMEZONE
BEGIN:VEVENT
DTSTART;TZID=Europe/Vienna:20260324T190000
DTEND;TZID=Europe/Vienna:20260324T203000
DTSTAMP:20260424T113938
CREATED:20251227T171655Z
LAST-MODIFIED:20251227T171655Z
UID:6607-1774378800-1774384200@www.bookseller.at
SUMMARY:Buchpräsentation mit Autorin Evelyne Weissenbach
DESCRIPTION:Tod eines Mädchens\n \nSturmwarnung und schweres Gewitter am Neusiedlersee.Am nächsten Morgen treibt die Leiche einer Sechzehn- jährigen am Ufer des Schilferner Seebades. Das letzte das man von ihr weiß ist\, dass sie mit einem Unbekannten zum Segeln wollte. Doch es wurde weder ein Notruf abgesetzt noch ein gekentertes Boot gemeldet. Luise Pimpernell ermittelt in einem Umfeld\, das ihr einigermaßen fremd ist. Einerseits Segel- und Yacht- betrieb\, andererseits arbeitete das lebenslustige\, attraktive Mädchen äußerst fokussiert an ihrer Karriere als Sängerin. Was mit sich brachte\, Kontakte zu Veranstaltern und Medienvertretern herzustellen.Daraus ergibt sich\, dass neben dem jungen Fankreis auch eine Gruppe von situierten älteren Herren auftritt\, die mehr an der Jugendlichen interessiert war als an ihrer Musik.Auch wenn es Luise am Anfang schwerfällt\, ihre Intuition einsetzen zu können\, so gelingt es ihr letztendlich auch diesmal wieder\, die Person zu finden\, die verantwortlich ist für den Tod eines Mädchens. \nAutorenportrait\nEvelyne Weissenbach\, geboren in Wien\, war 30 Jahre selbständig im Musikfachhandel tätig. Sie lebt mit ihrem Ehemann\, dem Maler Heinz Spicka\, seit 2006 im Burgenland und veröffentlicht seit mehr als 20 Jahren Romane\, Lyrik\, Sachbücher\, Artikel oder Essays. Ihre neueste Schreiblust gilt der Krimiserie „Luise Pimpernell ermittelt am Neusiedlersee“. Der erste Fall „Tod eines Surfers“ erschien im August 2017\, der zweite Fall „Tod eines Weinbauern“ im September 2018\, der dritte Fall „Tod einer Witwe“ im Juli 2021.Autorinnen-Homepage unter https://www.evelyne-weissenbach.atKrimi-Homepage unter https://www.luise-pimpernell.at/
URL:https://www.bookseller.at/event/buchpraesentation-mit-autorin-evelyne-weissenbach/
LOCATION:Buchhandlung Sterzinger\, Hauptstraße 29\, Wolkersdorf
ATTACH;FMTTYPE=image/jpeg:https://www.bookseller.at/wp-content/uploads/2025/12/14x175_0911-3-e1766855672127.jpg
ORGANIZER;CN="Hans Sterzinger":MAILTO:office@bookseller.at
END:VEVENT
END:VCALENDAR