BEGIN:VCALENDAR
VERSION:2.0
PRODID:-//Bookseller Sterzinger - ECPv6.15.20//NONSGML v1.0//EN
CALSCALE:GREGORIAN
METHOD:PUBLISH
X-WR-CALNAME:Bookseller Sterzinger
X-ORIGINAL-URL:https://www.bookseller.at
X-WR-CALDESC:Veranstaltungen für Bookseller Sterzinger
REFRESH-INTERVAL;VALUE=DURATION:PT1H
X-Robots-Tag:noindex
X-PUBLISHED-TTL:PT1H
BEGIN:VTIMEZONE
TZID:Europe/Vienna
BEGIN:DAYLIGHT
TZOFFSETFROM:+0100
TZOFFSETTO:+0200
TZNAME:CEST
DTSTART:20250330T010000
END:DAYLIGHT
BEGIN:STANDARD
TZOFFSETFROM:+0200
TZOFFSETTO:+0100
TZNAME:CET
DTSTART:20251026T010000
END:STANDARD
BEGIN:DAYLIGHT
TZOFFSETFROM:+0100
TZOFFSETTO:+0200
TZNAME:CEST
DTSTART:20260329T010000
END:DAYLIGHT
BEGIN:STANDARD
TZOFFSETFROM:+0200
TZOFFSETTO:+0100
TZNAME:CET
DTSTART:20261025T010000
END:STANDARD
BEGIN:DAYLIGHT
TZOFFSETFROM:+0100
TZOFFSETTO:+0200
TZNAME:CEST
DTSTART:20270328T010000
END:DAYLIGHT
BEGIN:STANDARD
TZOFFSETFROM:+0200
TZOFFSETTO:+0100
TZNAME:CET
DTSTART:20271031T010000
END:STANDARD
END:VTIMEZONE
BEGIN:VEVENT
DTSTART;VALUE=DATE:20260209
DTEND;VALUE=DATE:20260301
DTSTAMP:20260424T101047
CREATED:20251229T080019Z
LAST-MODIFIED:20251229T092740Z
UID:5665-1770595200-1772323199@www.bookseller.at
SUMMARY:Schultaschen und Rucksack Ausstellung in der Buchhandlung
DESCRIPTION:Schultaschen und Rucksack Ausstellung in der Buchhandlung
URL:https://www.bookseller.at/event/schultaschen-und-rucksack-ausstellung/
LOCATION:Buchhandlung Sterzinger\, Hauptstraße 29\, Wolkersdorf
ATTACH;FMTTYPE=image/jpeg:https://www.bookseller.at/wp-content/uploads/2023/01/Schultaschenausstellung-e1767000341291.jpg
ORGANIZER;CN="Hans Sterzinger":MAILTO:office@bookseller.at
END:VEVENT
BEGIN:VEVENT
DTSTART;TZID=Europe/Vienna:20260210T190000
DTEND;TZID=Europe/Vienna:20260210T203000
DTSTAMP:20260424T101047
CREATED:20251227T164017Z
LAST-MODIFIED:20260118T074657Z
UID:6602-1770750000-1770755400@www.bookseller.at
SUMMARY:Buchpräsentation mit Autor Gernot Rohrhofer
DESCRIPTION:Der Tag X – Die Umsturzfantasien der Rechten\n \nIm November 2024 stellt der österreichische Verfassungsschutz in einem Forsthaus in Niederösterreich 30 Kilogramm Munition\, Waffen und Propagandamaterial sicher. Das Haus sollte als Rückzugsort für die Gruppe der „Sächsischen Separatisten“ dienen. Die „Sächsischen Separatisten“ – junge rassistische und antisemitische Männer aus dem Osten Deutschlands – wälzen über Jahre hinweg Umsturzfantasien. Paramilitärische Übungen werden absolviert\, der Häuserkampf\, der Umgang mit Schusswaffen und Märsche trainiert. Die deutsche Bundesanwaltschaft stuft die Gruppierung als terroristische Vereinigung ein. Ende 2024 werden acht ihrer Mitglieder festgenommen. Die Spuren führen nicht nur nach Polen\, sondern auch – nach Österreich. Der „Tag X“ – in rechtsextremen Kreisen der Tag\, an dem die staatliche und gesellschaftliche Ordnung zusammenbricht. Der Tag\, an dem die „Sächsischen Separatisten“ mit Waffengewalt Gebiete im Osten Deutschlands erobern\, einen nationalsozialistisch geprägten Staat errichten und nötigenfalls auch ethnische Säuberungen durchführen wollen. Wie ernst zu nehmen waren die Umsturzfantasien? Warum sollte ausgerechnet Österreich als Rückzugsort dienen? Und wie weit reicht dieses Netzwerk in höchste politische Ämter? \nAutorenportrait\nMag. Gernot Rohrhofer\, geb. 1984\, ist Jurist und Journalist. Erste Erfahrungen sammelte er bei den „Niederösterreichischen Nachrichten“. Bevor er als Ressortleiter und Moderator zur Tageszeitung „Die Presse“ wechselte\, war er 13 Jahre in führenden redaktionellen Funktionen im ORF tätig. Rohrhofer ist diplomierter Berufssprecher und zertifizierter Profiler. Er lebt mit seiner Familie in Niederösterreich und ist Offizier bei der Freiwilligen Feuerwehr. Sein im Februar 2025 im Seifert Verlag erschienenes Buch „‚Er muss weg!‘. Der Fall Pilnacek“ erregte großes Aufsehen in der Öffentlichkeit. https://seifertverlag.at/praesentiert/autor/gernot-rohrhofer/ \n  \n 
URL:https://www.bookseller.at/event/buchpraesentation-mit-autor-gernot-rohrhofer/
LOCATION:Buchhandlung Sterzinger\, Hauptstraße 29\, Wolkersdorf
ATTACH;FMTTYPE=image/jpeg:https://www.bookseller.at/wp-content/uploads/2025/12/Rohrhofer-e1766853577672.jpg
END:VEVENT
END:VCALENDAR